BEGIN:VCALENDAR
VERSION:2.0
PRODID:-//eventon.com NONSGML v1.0//EN
CALSCALE:GREGORIAN
METHOD:PUBLISH
BEGIN:VEVENT
UID:69ecd3ad48d18
DTSTAMP:20260425T144605Z
DTSTART:20260530T173000Z
DTEND:20260530T215900Z
LOCATION:Musium Reinsberg Reinsberg 18
SUMMARY:Marina & The Kats
DESCRIPTION:[vc_row row_type=&#8220;row&#8220; use_row_as_full_screen_secti
 on=&#8220;no&#8220; type=&#8220;full_width&#8220; text_align=&#8220;left&#8
 220; background_animation=&#8220;none&#8220; css_animation=&#8220;&#8220;][
 vc_column][vc_column_text css=&#8220;&#8220;]Mit ihrer Mischung aus moderne
 n Indie-Sounds und nostalgischem Swing begeistern &#8222;Marina &amp; The K
 ats&#8220; auf der ganzen Welt.[/vc_column_text][/vc_column][/vc_row]\nhttp
 s://kulturdorf.reinsberg.at/events/marina-the-kats/
URL:https://kulturdorf.reinsberg.at/events/marina-the-kats/
END:VEVENT
END:VCALENDAR