BEGIN:VCALENDAR
VERSION:2.0
PRODID:-//eventon.com NONSGML v1.0//EN
CALSCALE:GREGORIAN
METHOD:PUBLISH
BEGIN:VEVENT
UID:69eb734502515
DTSTAMP:20260424T134229Z
DTSTART:20250913
DTEND:20250914
LOCATION:Burgarena Reinsberg Burggasse 40
SUMMARY:Reinsberger Nächte
DESCRIPTION:[vc_row row_type=&#8220;row&#8220; use_row_as_full_screen_secti
 on=&#8220;no&#8220; type=&#8220;full_width&#8220; text_align=&#8220;left&#8
 220; background_animation=&#8220;none&#8220; css_animation=&#8220;&#8220;][
 vc_column][vc_column_text css=&#8220;&#8220;]Da spielt die Blasmusik! Der N
 abel der Blasmusikwelt liegt am 13. und 14. September 2025 auf der Burgaren
 a Reinsberg.[/vc_column_text][/vc_column][/vc_row]\nhttps://kulturdorf.rein
 sberg.at/events/reinsberger-naechte-2025/
URL:https://kulturdorf.reinsberg.at/events/reinsberger-naechte-2025/
END:VEVENT
END:VCALENDAR