BEGIN:VCALENDAR
VERSION:2.0
PRODID:-//eventon.com NONSGML v1.0//EN
CALSCALE:GREGORIAN
METHOD:PUBLISH
BEGIN:VEVENT
UID:69e4d4e3bccb4
DTSTAMP:20260419T131307Z
DTSTART:20221104T183000Z
DTEND:20221104T225000Z
LOCATION:Musium Reinsberg Reinsberg 18
SUMMARY:Opernabend im Musium
DESCRIPTION:[vc_row row_type=&#8220;row&#8220; use_row_as_full_screen_secti
 on=&#8220;no&#8220; type=&#8220;full_width&#8220; text_align=&#8220;left&#8
 220; background_animation=&#8220;none&#8220; css_animation=&#8220;&#8220;][
 vc_column][vc_column_text] 20 Jahre Oper Reinsberg &#8211; Wolfgang Bankl\,
   Ileana Tonca\,  Alexandra Reinprecht\,  René Rumpold und Tomasz Konieczn
 y bringen Ausschnitte aus Don Giovanni\,  Le Nozze di Figaro\,  Die Zauberf
 löte\,  Cosi fan tutte\,  Fidelio und Fledermaus. [/vc_column_text][/vc_co
 lumn][/vc_row]\nhttps://kulturdorf.reinsberg.at/events/opernabend-im-musium
 /
URL:https://kulturdorf.reinsberg.at/events/opernabend-im-musium/
END:VEVENT
END:VCALENDAR