BEGIN:VCALENDAR
VERSION:2.0
PRODID:-//eventon.com NONSGML v1.0//EN
CALSCALE:GREGORIAN
METHOD:PUBLISH
BEGIN:VEVENT
UID:69e4e92731072
DTSTAMP:20260419T143935Z
DTSTART:20221016T150000Z
DTEND:20221016T215000Z
LOCATION:Musium Reinsberg Reinsberg 18
SUMMARY:Chor & Klavier zu 4 Händen
DESCRIPTION:[vc_row row_type=&#8220;row&#8220; use_row_as_full_screen_secti
 on=&#8220;no&#8220; type=&#8220;full_width&#8220; text_align=&#8220;left&#8
 220; background_animation=&#8220;none&#8220; css_animation=&#8220;&#8220;][
 vc_column][vc_column_text]Ein Abend für Feinschmecker &#8211; das Klavier
 duo mit Johanna Gröbner &amp; Veronika Trisko präsentiert zusammen mit de
 m A Cappella Chor Tulln unter der Leitung von Gottfried Zawichowski Stück
 e von Maurice Ravel (La Valse)\,  Carl Orff (Carmina Burana)\,  Frederick L
 oewe (My Fair Lady) bis Toto[..]\nhttps://kulturdorf.reinsberg.at/events/ch
 or-klavier-zu-4-haenden-2/
URL:https://kulturdorf.reinsberg.at/events/chor-klavier-zu-4-haenden-2/
END:VEVENT
END:VCALENDAR