BEGIN:VCALENDAR
VERSION:2.0
PRODID:-//eventon.com NONSGML v1.0//EN
CALSCALE:GREGORIAN
METHOD:PUBLISH
BEGIN:VEVENT
UID:69eb7356d733f
DTSTAMP:20260424T134246Z
DTSTART:20211203T183000Z
DTEND:20211203T225000Z
LOCATION:Musium Reinsberg Reinsberg 18
SUMMARY:Neuwirth & Krumpöck
DESCRIPTION:[vc_row row_type=&#8220;row&#8220; use_row_as_full_screen_secti
 on=&#8220;no&#8220; type=&#8220;full_width&#8220; text_align=&#8220;left&#8
 220; background_animation=&#8220;none&#8220; css_animation=&#8220;&#8220;][
 vc_column][vc_column_text]Roland Neuwirth interpretiert Franz Schuberts „
 Winterreise“ im Wiener Dialekt und überträgt den Zyklus ins heute. Es i
 st eine Seite\,  die man von Neuwirth nicht kennt\,  die überrascht und be
 sticht.[/vc_column_text][/vc_column][/vc_row]\nhttps://kulturdorf.reinsberg
 .at/events/roland-neuwirth-florian-krumpoeck/
URL:https://kulturdorf.reinsberg.at/events/roland-neuwirth-florian-krumpoeck/
END:VEVENT
END:VCALENDAR